BEGIN:VCALENDAR
VERSION:2.0
PRODID:spatie/icalendar-generator
DESCRIPTION:Events from Youthful Hearts
X-WR-CALDESC:Events from Youthful Hearts
REFRESH-INTERVAL;VALUE=DURATION:PT1440M
X-PUBLISHED-TTL:PT1440M
BEGIN:VTIMEZONE
TZID:America/Los_Angeles
BEGIN:STANDARD
DTSTART:20251102T020000Z
TZOFFSETFROM:-0700
TZOFFSETTO:-0800
END:STANDARD
BEGIN:DAYLIGHT
DTSTART:20260308T020000Z
TZOFFSETFROM:-0800
TZOFFSETTO:-0700
END:DAYLIGHT
END:VTIMEZONE
BEGIN:VTIMEZONE
TZID:UTC
BEGIN:STANDARD
DTSTART:20250727T114459Z
TZOFFSETFROM:+0000
TZOFFSETTO:+0000
END:STANDARD
END:VTIMEZONE
BEGIN:VEVENT
UID:48559-677
DTSTAMP:20260423T114459Z
SUMMARY:Chair Exercise
LOCATION:Zoom Virtual Class     94901-3806
ORGANIZER;CN=Jeanette:MAILTO:jeanette@youthfulhearts.com
RRULE:FREQ=WEEKLY;UNTIL=20600506T000000Z
DTSTART;TZID=America/Los_Angeles:20260423T120000
DTEND;TZID=America/Los_Angeles:20260423T124500
X-ALT-DESC;FMTTYPE=TEXT/HTML:Chair Exercise (Virtual class on Zoom) 12:00p
 m - 12:45pm Join us for this gentle\, unique exercise program that blends 
 elements of Qigong\, yoga\, non-impact aerobics\, and meditation all done 
 while sitting in a chair. This class is ideal for you if you are new to ex
 ercise or have a physical challenge such as limited mobility that&amp;hellip\;
CATEGORIES:Chair Exercise
URL;VALUE=URI:https://www.youthfulhearts.com/schedules/?mc_id=48559&#038;vc
 al=48559
METHOD:PUBLISH
END:VEVENT
END:VCALENDAR