BEGIN:VCALENDAR
VERSION:2.0
PRODID:spatie/icalendar-generator
DESCRIPTION:Events from Youthful Hearts
X-WR-CALDESC:Events from Youthful Hearts
REFRESH-INTERVAL;VALUE=DURATION:PT1440M
X-PUBLISHED-TTL:PT1440M
BEGIN:VTIMEZONE
TZID:America/Los_Angeles
BEGIN:STANDARD
DTSTART:20251102T020000Z
TZOFFSETFROM:-0700
TZOFFSETTO:-0800
END:STANDARD
BEGIN:DAYLIGHT
DTSTART:20260308T020000Z
TZOFFSETFROM:-0800
TZOFFSETTO:-0700
END:DAYLIGHT
END:VTIMEZONE
BEGIN:VTIMEZONE
TZID:UTC
BEGIN:STANDARD
DTSTART:20250727T114443Z
TZOFFSETFROM:+0000
TZOFFSETTO:+0000
END:STANDARD
END:VTIMEZONE
BEGIN:VEVENT
UID:48158-689
DTSTAMP:20260423T114443Z
SUMMARY:Fit and Fun after 50!
LOCATION:Zoom Virtual Class
ORGANIZER;CN=Jeanette:MAILTO:jeanette@youthfulhearts.com
RRULE:FREQ=WEEKLY;UNTIL=20270111T000000Z
DTSTART;TZID=America/Los_Angeles:20260427T091500
DTEND;TZID=America/Los_Angeles:20260427T100000
X-ALT-DESC;FMTTYPE=TEXT/HTML:Low Impact Aerobics\, Virtual Class on Zoom 9:
 15am - 10:00am Led by Jeanette Move into a more vibrant life of natural we
 llness! Come join us for positive support\, safe low-impact aerobics\, mus
 ic\, and fun! You’ll boost your mood\, burn fat\, build stronger bones\,
  improve your stamina and your heart and brain health. After a good&amp;hellip
 \;
CATEGORIES:Low Impact Aerobics 
URL;VALUE=URI:https://www.youthfulhearts.com/schedules/?mc_id=48158&#038;vc
 al=48158
METHOD:PUBLISH
END:VEVENT
END:VCALENDAR