BEGIN:VCALENDAR
VERSION:2.0
PRODID:spatie/icalendar-generator
DESCRIPTION:Events from Youthful Hearts
X-WR-CALDESC:Events from Youthful Hearts
REFRESH-INTERVAL;VALUE=DURATION:PT1440M
X-PUBLISHED-TTL:PT1440M
BEGIN:VTIMEZONE
TZID:America/Los_Angeles
BEGIN:STANDARD
DTSTART:20251102T020000Z
TZOFFSETFROM:-0700
TZOFFSETTO:-0800
END:STANDARD
BEGIN:DAYLIGHT
DTSTART:20260308T020000Z
TZOFFSETFROM:-0800
TZOFFSETTO:-0700
END:DAYLIGHT
END:VTIMEZONE
BEGIN:VTIMEZONE
TZID:UTC
BEGIN:STANDARD
DTSTART:20250727T115606Z
TZOFFSETFROM:+0000
TZOFFSETTO:+0000
END:STANDARD
END:VTIMEZONE
BEGIN:VEVENT
UID:41550-675
DTSTAMP:20260423T115606Z
SUMMARY:Still Going Strong
LOCATION:Zoom Virtual Class
ORGANIZER;CN=Jeanette:MAILTO:jeanette@youthfulhearts.com
RRULE:FREQ=WEEKLY;UNTIL=20270107T000000Z
DTSTART;TZID=America/Los_Angeles:20260423T103000
DTEND;TZID=America/Los_Angeles:20260423T231500
X-ALT-DESC;FMTTYPE=TEXT/HTML:Strength\, Balance\, &amp;amp\; Flexibility Traini
 ng (Virtual Class on Zoom) Moderate Mindful Movement For Increased Well B
 eing and Holistic Fitness after 50 10:30am – 11:15am Led by Jeanette Fee
 l great\, live better and maintain your ability to take care of yourself a
 s you grow older! This class helps to develop the many aspects of function
 al fitness necessary&amp;hellip\;
CATEGORIES:Strength &amp; Stretch
URL;VALUE=URI:https://www.youthfulhearts.com/schedules/?mc_id=41550&#038;vc
 al=41550
METHOD:PUBLISH
END:VEVENT
END:VCALENDAR