BEGIN:VCALENDAR
VERSION:2.0
PRODID:spatie/icalendar-generator
DESCRIPTION:Events from Youthful Hearts
X-WR-CALDESC:Events from Youthful Hearts
REFRESH-INTERVAL;VALUE=DURATION:PT1440M
X-PUBLISHED-TTL:PT1440M
BEGIN:VTIMEZONE
TZID:America/Los_Angeles
BEGIN:DAYLIGHT
DTSTART:20250309T020000Z
TZOFFSETFROM:-0800
TZOFFSETTO:-0700
END:DAYLIGHT
BEGIN:STANDARD
DTSTART:20251102T020000Z
TZOFFSETFROM:-0700
TZOFFSETTO:-0800
END:STANDARD
BEGIN:DAYLIGHT
DTSTART:20260308T020000Z
TZOFFSETFROM:-0800
TZOFFSETTO:-0700
END:DAYLIGHT
END:VTIMEZONE
BEGIN:VTIMEZONE
TZID:UTC
BEGIN:STANDARD
DTSTART:20250727T134506Z
TZOFFSETFROM:+0000
TZOFFSETTO:+0000
END:STANDARD
END:VTIMEZONE
BEGIN:VEVENT
UID:33506-672
DTSTAMP:20260423T134506Z
SUMMARY:Still Going Strong
LOCATION:Margaret Todd Senior Center 1560 Hill Rd  Novato CA 94947-4002
ORGANIZER;CN=Jeanette:MAILTO:jeanette@youthfulhearts.com
RRULE:FREQ=WEEKLY;UNTIL=20601130T000000Z
DTSTART;TZID=America/Los_Angeles:20251202T110000
DTEND;TZID=America/Los_Angeles:20251202T120000
X-ALT-DESC;FMTTYPE=TEXT/HTML:Strength\, Balance\, &amp;amp\; Flexibility Traini
 ng Moderate Mindful Movement For Increased Well Being and Holistic Fitnes
 s after 50 11:00am - 12:00pm Led by Jeanette Feel great\, live better and 
 maintain your ability to take care of yourself as you grow older! This cla
 ss helps to develop the many aspects of functional fitness necessary for a
 ging well\, including balance\,&amp;hellip\;
CATEGORIES:Strength &amp; Stretch
URL;VALUE=URI:https://www.youthfulhearts.com/schedules/?mc_id=33506&#038;vc
 al=33506
METHOD:PUBLISH
END:VEVENT
END:VCALENDAR