BEGIN:VCALENDAR
VERSION:2.0
PRODID:spatie/icalendar-generator
DESCRIPTION:Events from Youthful Hearts
X-WR-CALDESC:Events from Youthful Hearts
REFRESH-INTERVAL;VALUE=DURATION:PT1440M
X-PUBLISHED-TTL:PT1440M
BEGIN:VTIMEZONE
TZID:America/Los_Angeles
BEGIN:STANDARD
DTSTART:20251102T020000Z
TZOFFSETFROM:-0700
TZOFFSETTO:-0800
END:STANDARD
BEGIN:DAYLIGHT
DTSTART:20260308T020000Z
TZOFFSETFROM:-0800
TZOFFSETTO:-0700
END:DAYLIGHT
END:VTIMEZONE
BEGIN:VTIMEZONE
TZID:UTC
BEGIN:STANDARD
DTSTART:20250727T153313Z
TZOFFSETFROM:+0000
TZOFFSETTO:+0000
END:STANDARD
END:VTIMEZONE
BEGIN:VEVENT
UID:47610-543
DTSTAMP:20260423T153313Z
SUMMARY:Chair Exercise
LOCATION:Margaret Todd Senior Center 1560 Hill Rd   Novato  94947-4002
ORGANIZER;CN=Jeanette:MAILTO:jeanette@youthfulhearts.com
RRULE:FREQ=WEEKLY;UNTIL=20271231T000000Z
DTSTART;TZID=America/Los_Angeles:20260414T133000
DTEND;TZID=America/Los_Angeles:20260414T141000
X-ALT-DESC;FMTTYPE=TEXT/HTML:Chair Exercise 1:30pm - 2:10pm Join us for th
 is gentle\, unique exercise program that blends elements of Qigong\, yoga\
 , non-impact aerobics\, and meditation all done while sitting in a chair. 
 This class is ideal for you if you are new to exercise or have a physical 
 challenge such as limited mobility that prevents you from doing&amp;hellip\;
CATEGORIES:Chair Exercise
URL;VALUE=URI:https://www.youthfulhearts.com/schedules/?cid=mc-948a6a8e8cd1
 5db324902317a630b853&#038;mc_id=47610&#038;vcal=47610
METHOD:PUBLISH
END:VEVENT
END:VCALENDAR