BEGIN:VCALENDAR
VERSION:2.0
PRODID:spatie/icalendar-generator
DESCRIPTION:Events from Youthful Hearts
X-WR-CALDESC:Events from Youthful Hearts
REFRESH-INTERVAL;VALUE=DURATION:PT1440M
X-PUBLISHED-TTL:PT1440M
BEGIN:VTIMEZONE
TZID:America/Los_Angeles
BEGIN:STANDARD
DTSTART:20251102T020000Z
TZOFFSETFROM:-0700
TZOFFSETTO:-0800
END:STANDARD
BEGIN:DAYLIGHT
DTSTART:20260308T020000Z
TZOFFSETFROM:-0800
TZOFFSETTO:-0700
END:DAYLIGHT
END:VTIMEZONE
BEGIN:VTIMEZONE
TZID:UTC
BEGIN:STANDARD
DTSTART:20250727T151954Z
TZOFFSETFROM:+0000
TZOFFSETTO:+0000
END:STANDARD
END:VTIMEZONE
BEGIN:VEVENT
UID:35540-617
DTSTAMP:20260423T151954Z
SUMMARY:Line Dancing
LOCATION:Margaret Todd Senior Center 1560 Hill Rd   Novato  94947-4002
ORGANIZER;CN=Jeanette:MAILTO:jeanette@youthfulhearts.com
RRULE:FREQ=WEEKLY;UNTIL=20601130T000000Z
DTSTART;TZID=America/Los_Angeles:20260428T122500
DTEND;TZID=America/Los_Angeles:20260428T130500
X-ALT-DESC;FMTTYPE=TEXT/HTML:12:25pm - 1:05pm Taught by Jeanette In this re
 juvenating\, stress-releasing class we focus on learning a variety of popu
 lar line dances. You’ll have a lot of fun and get some beneficial exerci
 se. Plus\, you’ll develop better memory. For music we use a wide mix of 
 styles\, including country\, pop and big band. Beginning and intermediate&amp;
 hellip\;
CATEGORIES:Line Dancing
URL;VALUE=URI:https://www.youthfulhearts.com/schedules/?cid=mc-948a6a8e8cd1
 5db324902317a630b853&#038;mc_id=35540&#038;vcal=35540
METHOD:PUBLISH
END:VEVENT
END:VCALENDAR